{
 "currentVersion": 11.5,
 "cimVersion": "3.5.0",
 "serviceDescription": "",
 "mapName": "Layers",
 "description": "",
 "copyrightText": "",
 "supportsDynamicLayers": true,
 "layers": [
  {
   "id": 0,
   "name": "imagery.GEO_OWNER.Aerial_2018_Pictometry",
   "parentLayerId": -1,
   "defaultVisibility": true,
   "subLayerIds": [
    1,
    2,
    3
   ],
   "minScale": 0,
   "maxScale": 0,
   "type": "Mosaic Layer",
   "supportsDynamicLegends": false
  },
  {
   "id": 1,
   "name": "Boundary",
   "parentLayerId": 0,
   "defaultVisibility": false,
   "subLayerIds": null,
   "minScale": 0,
   "maxScale": 0,
   "type": "Feature Layer",
   "geometryType": "esriGeometryPolygon",
   "supportsDynamicLegends": true
  },
  {
   "id": 2,
   "name": "Footprint",
   "parentLayerId": 0,
   "defaultVisibility": false,
   "subLayerIds": null,
   "minScale": 0,
   "maxScale": 0,
   "type": "Feature Layer",
   "geometryType": "esriGeometryPolygon",
   "supportsDynamicLegends": true
  },
  {
   "id": 3,
   "name": "Image",
   "parentLayerId": 0,
   "defaultVisibility": true,
   "subLayerIds": null,
   "minScale": 0,
   "maxScale": 0,
   "type": "Raster Layer",
   "supportsDynamicLegends": true
  }
 ],
 "tables": [],
 "spatialReference": {
  "wkid": 102747,
  "latestWkid": 2284,
  "xyTolerance": 0.003280833333333333,
  "zTolerance": 0.001,
  "mTolerance": 0.001,
  "falseX": -111140600,
  "falseY": -91532100,
  "xyUnits": 3.672703675085654E7,
  "falseZ": -100000,
  "zUnits": 10000,
  "falseM": -100000,
  "mUnits": 10000
 },
 "singleFusedMapCache": true,
 "tileInfo": {
  "rows": 256,
  "cols": 256,
  "dpi": 96,
  "format": "MIXED",
  "compressionQuality": 75,
  "origin": {
   "x": -111140600,
   "y": 1.5371500000000003E8
  },
  "spatialReference": {
   "wkid": 102747,
   "latestWkid": 2284,
   "xyTolerance": 0.003280833333333333,
   "zTolerance": 0.001,
   "mTolerance": 0.001,
   "falseX": -111140600,
   "falseY": -91532100,
   "xyUnits": 3.672703675085654E7,
   "falseZ": -100000,
   "zUnits": 10000,
   "falseM": -100000,
   "mUnits": 10000
  },
  "lods": [
   {
    "level": 0,
    "resolution": 501.55430059809026,
    "scale": 577790.554289
   },
   {
    "level": 1,
    "resolution": 250.7771502986111,
    "scale": 288895.277144
   },
   {
    "level": 2,
    "resolution": 125.38857514930555,
    "scale": 144447.638572
   },
   {
    "level": 3,
    "resolution": 62.694287574652776,
    "scale": 72223.819286
   },
   {
    "level": 4,
    "resolution": 31.347143787326388,
    "scale": 36111.909643
   },
   {
    "level": 5,
    "resolution": 15.673571894097222,
    "scale": 18055.954822
   },
   {
    "level": 6,
    "resolution": 7.836785947048611,
    "scale": 9027.977411
   },
   {
    "level": 7,
    "resolution": 3.9183929730902776,
    "scale": 4513.988705
   },
   {
    "level": 8,
    "resolution": 1.9591964869791667,
    "scale": 2256.994353
   },
   {
    "level": 9,
    "resolution": 0.9795982430555555,
    "scale": 1128.497176
   },
   {
    "level": 10,
    "resolution": 0.4895833333333333,
    "scale": 564
   },
   {
    "level": 11,
    "resolution": 0.24479166666666666,
    "scale": 282
   },
   {
    "level": 12,
    "resolution": 0.12239583333333333,
    "scale": 141
   },
   {
    "level": 13,
    "resolution": 0.061197916666666664,
    "scale": 70.5
   }
  ]
 },
 "storageInfo": {
  "storageFormat": "esriMapCacheStorageModeCompactV2",
  "packetSize": 128
 },
 "initialExtent": {
  "xmin": 1.0960841659696855E7,
  "ymin": 3619161.077711304,
  "xmax": 1.1105576840592839E7,
  "ymax": 3668983.6331695947,
  "spatialReference": {
   "wkid": 102747,
   "latestWkid": 2284,
   "xyTolerance": 0.003280833333333333,
   "zTolerance": 0.001,
   "mTolerance": 0.001,
   "falseX": -111140600,
   "falseY": -91532100,
   "xyUnits": 3.672703675085654E7,
   "falseZ": -100000,
   "zUnits": 10000,
   "falseM": -100000,
   "mUnits": 10000
  }
 },
 "fullExtent": {
  "xmin": 1.0969647000127971E7,
  "ymin": 3566070.0000851452,
  "xmax": 1.1096771500161722E7,
  "ymax": 3682111.5000851452,
  "spatialReference": {
   "wkid": 102747,
   "latestWkid": 2284,
   "xyTolerance": 0.003280833333333333,
   "zTolerance": 0.001,
   "mTolerance": 0.001,
   "falseX": -111140600,
   "falseY": -91532100,
   "xyUnits": 3.672703675085654E7,
   "falseZ": -100000,
   "zUnits": 10000,
   "falseM": -100000,
   "mUnits": 10000
  }
 },
 "datesInUnknownTimezone": false,
 "minScale": 577790.554289,
 "maxScale": 70.5,
 "units": "esriFeet",
 "supportedImageFormatTypes": "PNG32,PNG24,PNG,JPG,DIB,TIFF,EMF,PS,PDF,GIF,SVG,SVGZ,BMP",
 "documentInfo": {
  "Title": "",
  "Author": "",
  "Comments": "Eagleview Pictometry Imagery 2018-2019.",
  "Subject": "Eagleview Pictometry Imagery 2018-2019.",
  "Category": "",
  "Version": "10.1",
  "AntialiasingMode": "None",
  "TextAntialiasingMode": "Force",
  "Keywords": "Eagleview, Pictometry, Imagery"
 },
 "supportsQueryDomains": true,
 "capabilities": "Map,Query,Data",
 "supportedQueryFormats": "JSON, geoJSON, PBF",
 "exportTilesAllowed": false,
 "referenceScale": 0.0,
 "supportsDatumTransformation": true,
 "archivingInfo": {
  "supportsHistoricMoment": false
 },
 "supportsClipping": true,
 "supportsSpatialFilter": true,
 "supportsTimeRelation": true,
 "supportsQueryDataElements": true,
 "mapUnits": {
  "uwkid": 9003
 },
 "maxSelectionCount": 2000,
 "maxRecordCount": 1000,
 "maxImageHeight": 4096,
 "maxImageWidth": 4096,
 "supportedExtensions": "",
 "resampling": false,
 "serviceItemId": "4740ba3a39364e81b9c15fe15f5c961c"
}
