{
 "currentVersion": 11.5,
 "cimVersion": "3.5.0",
 "serviceDescription": "",
 "mapName": "Layers",
 "description": "",
 "copyrightText": "Roanoke County",
 "supportsDynamicLayers": true,
 "layers": [
  {
   "id": 4,
   "name": "Scale Ranges (m=million; k=1000)",
   "parentLayerId": -1,
   "defaultVisibility": true,
   "subLayerIds": [
    5,
    13,
    21,
    29,
    40,
    54,
    68,
    84,
    100,
    119,
    138,
    157
   ],
   "minScale": 0,
   "maxScale": 0,
   "type": "Group Layer",
   "supportsDynamicLegends": false
  },
  {
   "id": 5,
   "name": "1.5m-750k",
   "parentLayerId": 4,
   "defaultVisibility": true,
   "subLayerIds": [
    6,
    8,
    9,
    11
   ],
   "minScale": 1500000,
   "maxScale": 750001,
   "type": "Group Layer",
   "supportsDynamicLegends": false
  },
  {
   "id": 6,
   "name": "Boundaries",
   "parentLayerId": 5,
   "defaultVisibility": true,
   "subLayerIds": [
    7
   ],
   "minScale": 0,
   "maxScale": 0,
   "type": "Group Layer",
   "supportsDynamicLegends": false
  },
  {
   "id": 9,
   "name": "Hydrology",
   "parentLayerId": 5,
   "defaultVisibility": true,
   "subLayerIds": [
    10
   ],
   "minScale": 0,
   "maxScale": 0,
   "type": "Group Layer",
   "supportsDynamicLegends": false
  },
  {
   "id": 11,
   "name": "Landmarks",
   "parentLayerId": 5,
   "defaultVisibility": true,
   "subLayerIds": [
    12
   ],
   "minScale": 0,
   "maxScale": 0,
   "type": "Group Layer",
   "supportsDynamicLegends": false
  },
  {
   "id": 13,
   "name": "750-300k",
   "parentLayerId": 4,
   "defaultVisibility": true,
   "subLayerIds": [
    14,
    16,
    17,
    19
   ],
   "minScale": 750000,
   "maxScale": 300001,
   "type": "Group Layer",
   "supportsDynamicLegends": false
  },
  {
   "id": 14,
   "name": "Boundaries",
   "parentLayerId": 13,
   "defaultVisibility": true,
   "subLayerIds": [
    15
   ],
   "minScale": 0,
   "maxScale": 0,
   "type": "Group Layer",
   "supportsDynamicLegends": false
  },
  {
   "id": 17,
   "name": "Hydrology",
   "parentLayerId": 13,
   "defaultVisibility": true,
   "subLayerIds": [
    18
   ],
   "minScale": 0,
   "maxScale": 0,
   "type": "Group Layer",
   "supportsDynamicLegends": false
  },
  {
   "id": 19,
   "name": "Landmarks",
   "parentLayerId": 13,
   "defaultVisibility": true,
   "subLayerIds": [
    20
   ],
   "minScale": 0,
   "maxScale": 0,
   "type": "Group Layer",
   "supportsDynamicLegends": false
  },
  {
   "id": 21,
   "name": "300-150k",
   "parentLayerId": 4,
   "defaultVisibility": true,
   "subLayerIds": [
    22,
    24,
    25,
    27
   ],
   "minScale": 300000,
   "maxScale": 150001,
   "type": "Group Layer",
   "supportsDynamicLegends": false
  },
  {
   "id": 22,
   "name": "Boundaries",
   "parentLayerId": 21,
   "defaultVisibility": true,
   "subLayerIds": [
    23
   ],
   "minScale": 0,
   "maxScale": 0,
   "type": "Group Layer",
   "supportsDynamicLegends": false
  },
  {
   "id": 25,
   "name": "Hydrology",
   "parentLayerId": 21,
   "defaultVisibility": true,
   "subLayerIds": [
    26
   ],
   "minScale": 0,
   "maxScale": 0,
   "type": "Group Layer",
   "supportsDynamicLegends": false
  },
  {
   "id": 27,
   "name": "Landmarks",
   "parentLayerId": 21,
   "defaultVisibility": true,
   "subLayerIds": [
    28
   ],
   "minScale": 0,
   "maxScale": 0,
   "type": "Group Layer",
   "supportsDynamicLegends": false
  },
  {
   "id": 29,
   "name": "150-100k",
   "parentLayerId": 4,
   "defaultVisibility": true,
   "subLayerIds": [
    30,
    32,
    35,
    37
   ],
   "minScale": 150000,
   "maxScale": 100001,
   "type": "Group Layer",
   "supportsDynamicLegends": false
  },
  {
   "id": 30,
   "name": "Boundaries",
   "parentLayerId": 29,
   "defaultVisibility": true,
   "subLayerIds": [
    31
   ],
   "minScale": 0,
   "maxScale": 0,
   "type": "Group Layer",
   "supportsDynamicLegends": false
  },
  {
   "id": 32,
   "name": "Transportation",
   "parentLayerId": 29,
   "defaultVisibility": true,
   "subLayerIds": [
    33,
    34
   ],
   "minScale": 0,
   "maxScale": 0,
   "type": "Group Layer",
   "supportsDynamicLegends": false
  },
  {
   "id": 35,
   "name": "Hydrology",
   "parentLayerId": 29,
   "defaultVisibility": true,
   "subLayerIds": [
    36
   ],
   "minScale": 0,
   "maxScale": 0,
   "type": "Group Layer",
   "supportsDynamicLegends": false
  },
  {
   "id": 37,
   "name": "Landmarks",
   "parentLayerId": 29,
   "defaultVisibility": true,
   "subLayerIds": [
    38,
    39
   ],
   "minScale": 0,
   "maxScale": 0,
   "type": "Group Layer",
   "supportsDynamicLegends": false
  },
  {
   "id": 40,
   "name": "100-50k",
   "parentLayerId": 4,
   "defaultVisibility": true,
   "subLayerIds": [
    41,
    44,
    48,
    51
   ],
   "minScale": 100000,
   "maxScale": 50001,
   "type": "Group Layer",
   "supportsDynamicLegends": false
  },
  {
   "id": 41,
   "name": "Boundaries",
   "parentLayerId": 40,
   "defaultVisibility": true,
   "subLayerIds": [
    42,
    43
   ],
   "minScale": 0,
   "maxScale": 0,
   "type": "Group Layer",
   "supportsDynamicLegends": false
  },
  {
   "id": 44,
   "name": "Transportation",
   "parentLayerId": 40,
   "defaultVisibility": true,
   "subLayerIds": [
    45,
    46,
    47
   ],
   "minScale": 0,
   "maxScale": 0,
   "type": "Group Layer",
   "supportsDynamicLegends": false
  },
  {
   "id": 48,
   "name": "Hydrology",
   "parentLayerId": 40,
   "defaultVisibility": true,
   "subLayerIds": [
    49,
    50
   ],
   "minScale": 0,
   "maxScale": 0,
   "type": "Group Layer",
   "supportsDynamicLegends": false
  },
  {
   "id": 51,
   "name": "Landmarks",
   "parentLayerId": 40,
   "defaultVisibility": true,
   "subLayerIds": [
    52,
    53
   ],
   "minScale": 0,
   "maxScale": 0,
   "type": "Group Layer",
   "supportsDynamicLegends": false
  },
  {
   "id": 54,
   "name": "50-25k",
   "parentLayerId": 4,
   "defaultVisibility": true,
   "subLayerIds": [
    55,
    58,
    62,
    65
   ],
   "minScale": 50000,
   "maxScale": 25001,
   "type": "Group Layer",
   "supportsDynamicLegends": false
  },
  {
   "id": 55,
   "name": "Boundaries",
   "parentLayerId": 54,
   "defaultVisibility": true,
   "subLayerIds": [
    56,
    57
   ],
   "minScale": 0,
   "maxScale": 0,
   "type": "Group Layer",
   "supportsDynamicLegends": false
  },
  {
   "id": 58,
   "name": "Transportation",
   "parentLayerId": 54,
   "defaultVisibility": true,
   "subLayerIds": [
    59,
    60,
    61
   ],
   "minScale": 0,
   "maxScale": 0,
   "type": "Group Layer",
   "supportsDynamicLegends": false
  },
  {
   "id": 62,
   "name": "Hydrology",
   "parentLayerId": 54,
   "defaultVisibility": true,
   "subLayerIds": [
    63,
    64
   ],
   "minScale": 0,
   "maxScale": 0,
   "type": "Group Layer",
   "supportsDynamicLegends": false
  },
  {
   "id": 65,
   "name": "Landmarks",
   "parentLayerId": 54,
   "defaultVisibility": true,
   "subLayerIds": [
    66,
    67
   ],
   "minScale": 0,
   "maxScale": 0,
   "type": "Group Layer",
   "supportsDynamicLegends": false
  },
  {
   "id": 68,
   "name": "25-15k",
   "parentLayerId": 4,
   "defaultVisibility": true,
   "subLayerIds": [
    69,
    73,
    78,
    81
   ],
   "minScale": 25000,
   "maxScale": 15001,
   "type": "Group Layer",
   "supportsDynamicLegends": false
  },
  {
   "id": 69,
   "name": "Boundaries",
   "parentLayerId": 68,
   "defaultVisibility": true,
   "subLayerIds": [
    70,
    71,
    72
   ],
   "minScale": 0,
   "maxScale": 0,
   "type": "Group Layer",
   "supportsDynamicLegends": false
  },
  {
   "id": 73,
   "name": "Transportation",
   "parentLayerId": 68,
   "defaultVisibility": true,
   "subLayerIds": [
    74,
    75,
    76,
    77
   ],
   "minScale": 0,
   "maxScale": 0,
   "type": "Group Layer",
   "supportsDynamicLegends": false
  },
  {
   "id": 78,
   "name": "Hydrology",
   "parentLayerId": 68,
   "defaultVisibility": true,
   "subLayerIds": [
    79,
    80
   ],
   "minScale": 0,
   "maxScale": 0,
   "type": "Group Layer",
   "supportsDynamicLegends": false
  },
  {
   "id": 81,
   "name": "Landmarks",
   "parentLayerId": 68,
   "defaultVisibility": true,
   "subLayerIds": [
    82,
    83
   ],
   "minScale": 0,
   "maxScale": 0,
   "type": "Group Layer",
   "supportsDynamicLegends": false
  },
  {
   "id": 84,
   "name": "15-5k",
   "parentLayerId": 4,
   "defaultVisibility": true,
   "subLayerIds": [
    85,
    87,
    88,
    93,
    96
   ],
   "minScale": 15000,
   "maxScale": 5001,
   "type": "Group Layer",
   "supportsDynamicLegends": false
  },
  {
   "id": 85,
   "name": "Boundaries",
   "parentLayerId": 84,
   "defaultVisibility": true,
   "subLayerIds": [
    86
   ],
   "minScale": 0,
   "maxScale": 0,
   "type": "Group Layer",
   "supportsDynamicLegends": false
  },
  {
   "id": 88,
   "name": "Transportation",
   "parentLayerId": 84,
   "defaultVisibility": true,
   "subLayerIds": [
    89,
    90,
    91,
    92
   ],
   "minScale": 0,
   "maxScale": 0,
   "type": "Group Layer",
   "supportsDynamicLegends": false
  },
  {
   "id": 93,
   "name": "Hydrology",
   "parentLayerId": 84,
   "defaultVisibility": true,
   "subLayerIds": [
    94,
    95
   ],
   "minScale": 0,
   "maxScale": 0,
   "type": "Group Layer",
   "supportsDynamicLegends": false
  },
  {
   "id": 96,
   "name": "Landmarks",
   "parentLayerId": 84,
   "defaultVisibility": true,
   "subLayerIds": [
    97,
    98,
    99
   ],
   "minScale": 0,
   "maxScale": 0,
   "type": "Group Layer",
   "supportsDynamicLegends": false
  },
  {
   "id": 100,
   "name": "5-2.5k",
   "parentLayerId": 4,
   "defaultVisibility": true,
   "subLayerIds": [
    101,
    102,
    103,
    104,
    105,
    106,
    112,
    115
   ],
   "minScale": 5000,
   "maxScale": 2501,
   "type": "Group Layer",
   "supportsDynamicLegends": false
  },
  {
   "id": 106,
   "name": "Transportation",
   "parentLayerId": 100,
   "defaultVisibility": true,
   "subLayerIds": [
    107,
    108,
    109,
    110,
    111
   ],
   "minScale": 0,
   "maxScale": 0,
   "type": "Group Layer",
   "supportsDynamicLegends": false
  },
  {
   "id": 112,
   "name": "Hydrology",
   "parentLayerId": 100,
   "defaultVisibility": true,
   "subLayerIds": [
    113,
    114
   ],
   "minScale": 0,
   "maxScale": 0,
   "type": "Group Layer",
   "supportsDynamicLegends": false
  },
  {
   "id": 115,
   "name": "Landmarks",
   "parentLayerId": 100,
   "defaultVisibility": true,
   "subLayerIds": [
    116,
    117,
    118
   ],
   "minScale": 0,
   "maxScale": 0,
   "type": "Group Layer",
   "supportsDynamicLegends": false
  },
  {
   "id": 119,
   "name": "2.5- 1.75k",
   "parentLayerId": 4,
   "defaultVisibility": true,
   "subLayerIds": [
    120,
    121,
    122,
    123,
    124,
    125,
    131,
    134
   ],
   "minScale": 2500,
   "maxScale": 1751,
   "type": "Group Layer",
   "supportsDynamicLegends": false
  },
  {
   "id": 125,
   "name": "Transportation",
   "parentLayerId": 119,
   "defaultVisibility": true,
   "subLayerIds": [
    126,
    127,
    128,
    129,
    130
   ],
   "minScale": 0,
   "maxScale": 0,
   "type": "Group Layer",
   "supportsDynamicLegends": false
  },
  {
   "id": 131,
   "name": "Hydrology",
   "parentLayerId": 119,
   "defaultVisibility": true,
   "subLayerIds": [
    132,
    133
   ],
   "minScale": 0,
   "maxScale": 0,
   "type": "Group Layer",
   "supportsDynamicLegends": false
  },
  {
   "id": 134,
   "name": "Landmarks",
   "parentLayerId": 119,
   "defaultVisibility": true,
   "subLayerIds": [
    135,
    136,
    137
   ],
   "minScale": 0,
   "maxScale": 0,
   "type": "Group Layer",
   "supportsDynamicLegends": false
  },
  {
   "id": 138,
   "name": "1.75- 1",
   "parentLayerId": 4,
   "defaultVisibility": true,
   "subLayerIds": [
    139,
    140,
    141,
    142,
    143,
    144,
    150,
    153
   ],
   "minScale": 1750,
   "maxScale": 1001,
   "type": "Group Layer",
   "supportsDynamicLegends": false
  },
  {
   "id": 144,
   "name": "Transportation",
   "parentLayerId": 138,
   "defaultVisibility": true,
   "subLayerIds": [
    145,
    146,
    147,
    148,
    149
   ],
   "minScale": 0,
   "maxScale": 0,
   "type": "Group Layer",
   "supportsDynamicLegends": false
  },
  {
   "id": 150,
   "name": "Hydrology",
   "parentLayerId": 138,
   "defaultVisibility": true,
   "subLayerIds": [
    151,
    152
   ],
   "minScale": 0,
   "maxScale": 0,
   "type": "Group Layer",
   "supportsDynamicLegends": false
  },
  {
   "id": 153,
   "name": "Landmarks",
   "parentLayerId": 138,
   "defaultVisibility": true,
   "subLayerIds": [
    154,
    155,
    156
   ],
   "minScale": 0,
   "maxScale": 0,
   "type": "Group Layer",
   "supportsDynamicLegends": false
  },
  {
   "id": 157,
   "name": "1- k",
   "parentLayerId": 4,
   "defaultVisibility": true,
   "subLayerIds": [
    158,
    159,
    160,
    161,
    162,
    163,
    164,
    170,
    173
   ],
   "minScale": 1000,
   "maxScale": 0,
   "type": "Group Layer",
   "supportsDynamicLegends": false
  },
  {
   "id": 164,
   "name": "Transportation",
   "parentLayerId": 157,
   "defaultVisibility": true,
   "subLayerIds": [
    165,
    166,
    167,
    168,
    169
   ],
   "minScale": 0,
   "maxScale": 0,
   "type": "Group Layer",
   "supportsDynamicLegends": false
  },
  {
   "id": 170,
   "name": "Hydrology",
   "parentLayerId": 157,
   "defaultVisibility": true,
   "subLayerIds": [
    171,
    172
   ],
   "minScale": 0,
   "maxScale": 0,
   "type": "Group Layer",
   "supportsDynamicLegends": false
  },
  {
   "id": 173,
   "name": "Landmarks",
   "parentLayerId": 157,
   "defaultVisibility": true,
   "subLayerIds": [
    174,
    175,
    176
   ],
   "minScale": 0,
   "maxScale": 0,
   "type": "Group Layer",
   "supportsDynamicLegends": false
  }
 ],
 "tables": [],
 "spatialReference": {
  "wkid": 102100,
  "latestWkid": 3857,
  "xyTolerance": 0.001,
  "zTolerance": 0.001,
  "mTolerance": 0.001,
  "falseX": -20037700,
  "falseY": -30241100,
  "xyUnits": 1.4892314192838538E8,
  "falseZ": -100000,
  "zUnits": 10000,
  "falseM": -100000,
  "mUnits": 10000
 },
 "singleFusedMapCache": true,
 "tileInfo": {
  "rows": 256,
  "cols": 256,
  "dpi": 96,
  "format": "MIXED",
  "compressionQuality": 75,
  "origin": {
   "x": -2.0037508342787E7,
   "y": 2.0037508342787E7
  },
  "spatialReference": {
   "wkid": 102100,
   "latestWkid": 3857,
   "xyTolerance": 0.001,
   "zTolerance": 0.001,
   "mTolerance": 0.001,
   "falseX": -20037700,
   "falseY": -30241100,
   "xyUnits": 1.4892314192838538E8,
   "falseZ": -100000,
   "zUnits": 10000,
   "falseM": -100000,
   "mUnits": 10000
  },
  "lods": [
   {
    "level": 0,
    "resolution": 156543.03392800014,
    "scale": 5.91657527591555E8
   },
   {
    "level": 1,
    "resolution": 78271.51696399994,
    "scale": 2.95828763795777E8
   },
   {
    "level": 2,
    "resolution": 39135.75848200009,
    "scale": 1.47914381897889E8
   },
   {
    "level": 3,
    "resolution": 19567.87924099992,
    "scale": 7.3957190948944E7
   },
   {
    "level": 4,
    "resolution": 9783.93962049996,
    "scale": 3.6978595474472E7
   },
   {
    "level": 5,
    "resolution": 4891.96981024998,
    "scale": 1.8489297737236E7
   },
   {
    "level": 6,
    "resolution": 2445.98490512499,
    "scale": 9244648.868618
   },
   {
    "level": 7,
    "resolution": 1222.992452562495,
    "scale": 4622324.434309
   },
   {
    "level": 8,
    "resolution": 611.4962262813797,
    "scale": 2311162.217155
   },
   {
    "level": 9,
    "resolution": 305.74811314055756,
    "scale": 1155581.108577
   },
   {
    "level": 10,
    "resolution": 152.87405657041106,
    "scale": 577790.554289
   },
   {
    "level": 11,
    "resolution": 76.43702828507324,
    "scale": 288895.277144
   },
   {
    "level": 12,
    "resolution": 38.21851414253662,
    "scale": 144447.638572
   },
   {
    "level": 13,
    "resolution": 19.10925707126831,
    "scale": 72223.819286
   },
   {
    "level": 14,
    "resolution": 9.554628535634155,
    "scale": 36111.909643
   },
   {
    "level": 15,
    "resolution": 4.77731426794937,
    "scale": 18055.954822
   },
   {
    "level": 16,
    "resolution": 2.388657133974685,
    "scale": 9027.977411
   },
   {
    "level": 17,
    "resolution": 1.1943285668550503,
    "scale": 4513.988705
   },
   {
    "level": 18,
    "resolution": 0.5971642835598172,
    "scale": 2256.994353
   },
   {
    "level": 19,
    "resolution": 0.29858214164761665,
    "scale": 1128.497176
   },
   {
    "level": 20,
    "resolution": 0.14929107082380833,
    "scale": 564.248588
   },
   {
    "level": 21,
    "resolution": 0.07464553541190416,
    "scale": 282.124294
   },
   {
    "level": 22,
    "resolution": 0.03732276770595208,
    "scale": 141.062147
   },
   {
    "level": 23,
    "resolution": 0.01866138385297604,
    "scale": 70.5310735
   }
  ]
 },
 "storageInfo": {
  "storageFormat": "esriMapCacheStorageModeCompactV2",
  "packetSize": 128
 },
 "initialExtent": {
  "xmin": -8956498.036575072,
  "ymin": 4473117.041998734,
  "xmax": -8866295.787585048,
  "ymax": 4505604.774413895,
  "spatialReference": {
   "cs": "pcs",
   "wkid": 102100
  }
 },
 "fullExtent": {
  "xmin": -8978851.67706859,
  "ymin": 4398187.1027818145,
  "xmax": -8814134.0769576,
  "ymax": 4552093.931584924,
  "spatialReference": {
   "cs": "pcs",
   "wkid": 102100
  }
 },
 "datesInUnknownTimezone": false,
 "minScale": 288895.277144,
 "maxScale": 70.5310735,
 "minLOD": 9,
 "maxLOD": 23,
 "units": "esriMeters",
 "supportedImageFormatTypes": "PNG32,PNG24,PNG,JPG,DIB,TIFF,EMF,PS,PDF,GIF,SVG,SVGZ,BMP",
 "documentInfo": {
  "Title": "",
  "Author": "",
  "Comments": "",
  "Subject": "Streets Basemap",
  "Category": "",
  "Version": "10.1",
  "AntialiasingMode": "Best",
  "TextAntialiasingMode": "Force",
  "Keywords": "Streets,Basemap"
 },
 "supportsQueryDomains": true,
 "capabilities": "Map,Query,Data",
 "supportedQueryFormats": "JSON, geoJSON, PBF",
 "exportTilesAllowed": false,
 "referenceScale": 1000.0,
 "datumTransformations": [
  {
   "geoTransforms": [
    {
     "wkid": 108190,
     "latestWkid": 108190,
     "transformForward": true,
     "name": "WGS_1984_(ITRF00)_To_NAD_1983"
    }
   ]
  },
  {
   "geoTransforms": [
    {
     "wkid": 108190,
     "latestWkid": 108190,
     "transformForward": false,
     "name": "WGS_1984_(ITRF00)_To_NAD_1983"
    }
   ]
  },
  {
   "geoTransforms": [
    {
     "wkid": 108363,
     "latestWkid": 108363,
     "transformForward": false,
     "name": "WGS_1984_(ITRF08)_To_NAD_1983_2011"
    }
   ]
  },
  {
   "geoTransforms": [
    {
     "wkid": 108363,
     "latestWkid": 108363,
     "transformForward": true,
     "name": "WGS_1984_(ITRF08)_To_NAD_1983_2011"
    }
   ]
  }
 ],
 "supportsDatumTransformation": true,
 "archivingInfo": {
  "supportsHistoricMoment": false
 },
 "supportsClipping": true,
 "supportsSpatialFilter": true,
 "supportsTimeRelation": true,
 "supportsQueryDataElements": true,
 "mapUnits": {
  "uwkid": 9001
 },
 "maxSelectionCount": 2000,
 "maxRecordCount": 1000,
 "maxImageHeight": 4096,
 "maxImageWidth": 4096,
 "supportedExtensions": "",
 "resampling": false,
 "serviceItemId": "6ef91d730f6a433385ade611307bbda0"
}
