{
 "currentVersion": 11.5,
 "cimVersion": "3.5.0",
 "serviceDescription": "Streets Basemap for Roanoke Valley",
 "mapName": "Streets_Basemap",
 "description": "Streets Basemap for Roanoke Valley",
 "copyrightText": "Roanoke County",
 "supportsDynamicLayers": true,
 "layers": [
  {
   "id": 0,
   "name": "Scale Ranges (m=million; k=1000)",
   "parentLayerId": -1,
   "defaultVisibility": true,
   "subLayerIds": [
    1,
    11,
    21,
    31,
    44,
    60,
    76,
    95,
    113,
    134,
    157,
    180
   ],
   "minScale": 0,
   "maxScale": 0,
   "type": "Group Layer",
   "supportsDynamicLegends": false
  },
  {
   "id": 1,
   "name": "1.5m-750k",
   "parentLayerId": 0,
   "defaultVisibility": true,
   "subLayerIds": [
    2,
    4,
    5,
    7,
    9,
    10
   ],
   "minScale": 1500000,
   "maxScale": 750001,
   "type": "Group Layer",
   "supportsDynamicLegends": false
  },
  {
   "id": 2,
   "name": "Boundaries",
   "parentLayerId": 1,
   "defaultVisibility": true,
   "subLayerIds": [
    3
   ],
   "minScale": 0,
   "maxScale": 0,
   "type": "Group Layer",
   "supportsDynamicLegends": false
  },
  {
   "id": 5,
   "name": "Hydrology",
   "parentLayerId": 1,
   "defaultVisibility": true,
   "subLayerIds": [
    6
   ],
   "minScale": 0,
   "maxScale": 0,
   "type": "Group Layer",
   "supportsDynamicLegends": false
  },
  {
   "id": 7,
   "name": "Landmarks",
   "parentLayerId": 1,
   "defaultVisibility": true,
   "subLayerIds": [
    8
   ],
   "minScale": 0,
   "maxScale": 0,
   "type": "Group Layer",
   "supportsDynamicLegends": false
  },
  {
   "id": 10,
   "name": "Hillshade",
   "parentLayerId": 1,
   "defaultVisibility": true,
   "subLayerIds": null,
   "minScale": 0,
   "maxScale": 0,
   "type": "Raster Layer",
   "supportsDynamicLegends": true
  },
  {
   "id": 11,
   "name": "750-300k",
   "parentLayerId": 0,
   "defaultVisibility": true,
   "subLayerIds": [
    12,
    14,
    15,
    17,
    19,
    20
   ],
   "minScale": 750000,
   "maxScale": 300001,
   "type": "Group Layer",
   "supportsDynamicLegends": false
  },
  {
   "id": 12,
   "name": "Boundaries",
   "parentLayerId": 11,
   "defaultVisibility": true,
   "subLayerIds": [
    13
   ],
   "minScale": 0,
   "maxScale": 0,
   "type": "Group Layer",
   "supportsDynamicLegends": false
  },
  {
   "id": 15,
   "name": "Hydrology",
   "parentLayerId": 11,
   "defaultVisibility": true,
   "subLayerIds": [
    16
   ],
   "minScale": 0,
   "maxScale": 0,
   "type": "Group Layer",
   "supportsDynamicLegends": false
  },
  {
   "id": 17,
   "name": "Landmarks",
   "parentLayerId": 11,
   "defaultVisibility": true,
   "subLayerIds": [
    18
   ],
   "minScale": 0,
   "maxScale": 0,
   "type": "Group Layer",
   "supportsDynamicLegends": false
  },
  {
   "id": 20,
   "name": "Hillshade",
   "parentLayerId": 11,
   "defaultVisibility": true,
   "subLayerIds": null,
   "minScale": 0,
   "maxScale": 0,
   "type": "Raster Layer",
   "supportsDynamicLegends": true
  },
  {
   "id": 21,
   "name": "300-150k",
   "parentLayerId": 0,
   "defaultVisibility": true,
   "subLayerIds": [
    22,
    24,
    25,
    27,
    29,
    30
   ],
   "minScale": 300000,
   "maxScale": 150001,
   "type": "Group Layer",
   "supportsDynamicLegends": false
  },
  {
   "id": 22,
   "name": "Boundaries",
   "parentLayerId": 21,
   "defaultVisibility": true,
   "subLayerIds": [
    23
   ],
   "minScale": 0,
   "maxScale": 0,
   "type": "Group Layer",
   "supportsDynamicLegends": false
  },
  {
   "id": 25,
   "name": "Hydrology",
   "parentLayerId": 21,
   "defaultVisibility": true,
   "subLayerIds": [
    26
   ],
   "minScale": 0,
   "maxScale": 0,
   "type": "Group Layer",
   "supportsDynamicLegends": false
  },
  {
   "id": 27,
   "name": "Landmarks",
   "parentLayerId": 21,
   "defaultVisibility": true,
   "subLayerIds": [
    28
   ],
   "minScale": 0,
   "maxScale": 0,
   "type": "Group Layer",
   "supportsDynamicLegends": false
  },
  {
   "id": 30,
   "name": "Hillshade",
   "parentLayerId": 21,
   "defaultVisibility": true,
   "subLayerIds": null,
   "minScale": 0,
   "maxScale": 0,
   "type": "Raster Layer",
   "supportsDynamicLegends": true
  },
  {
   "id": 31,
   "name": "150-100k",
   "parentLayerId": 0,
   "defaultVisibility": true,
   "subLayerIds": [
    32,
    34,
    37,
    39,
    42,
    43
   ],
   "minScale": 150000,
   "maxScale": 100001,
   "type": "Group Layer",
   "supportsDynamicLegends": false
  },
  {
   "id": 32,
   "name": "Boundaries",
   "parentLayerId": 31,
   "defaultVisibility": true,
   "subLayerIds": [
    33
   ],
   "minScale": 0,
   "maxScale": 0,
   "type": "Group Layer",
   "supportsDynamicLegends": false
  },
  {
   "id": 34,
   "name": "Transportation",
   "parentLayerId": 31,
   "defaultVisibility": true,
   "subLayerIds": [
    35,
    36
   ],
   "minScale": 0,
   "maxScale": 0,
   "type": "Group Layer",
   "supportsDynamicLegends": false
  },
  {
   "id": 37,
   "name": "Hydrology",
   "parentLayerId": 31,
   "defaultVisibility": true,
   "subLayerIds": [
    38
   ],
   "minScale": 0,
   "maxScale": 0,
   "type": "Group Layer",
   "supportsDynamicLegends": false
  },
  {
   "id": 39,
   "name": "Landmarks",
   "parentLayerId": 31,
   "defaultVisibility": true,
   "subLayerIds": [
    40,
    41
   ],
   "minScale": 0,
   "maxScale": 0,
   "type": "Group Layer",
   "supportsDynamicLegends": false
  },
  {
   "id": 43,
   "name": "Hillshade",
   "parentLayerId": 31,
   "defaultVisibility": true,
   "subLayerIds": null,
   "minScale": 0,
   "maxScale": 0,
   "type": "Raster Layer",
   "supportsDynamicLegends": true
  },
  {
   "id": 44,
   "name": "100-50k",
   "parentLayerId": 0,
   "defaultVisibility": true,
   "subLayerIds": [
    45,
    48,
    52,
    55,
    58,
    59
   ],
   "minScale": 100000,
   "maxScale": 50001,
   "type": "Group Layer",
   "supportsDynamicLegends": false
  },
  {
   "id": 45,
   "name": "Boundaries",
   "parentLayerId": 44,
   "defaultVisibility": true,
   "subLayerIds": [
    46,
    47
   ],
   "minScale": 0,
   "maxScale": 0,
   "type": "Group Layer",
   "supportsDynamicLegends": false
  },
  {
   "id": 48,
   "name": "Transportation",
   "parentLayerId": 44,
   "defaultVisibility": true,
   "subLayerIds": [
    49,
    50,
    51
   ],
   "minScale": 0,
   "maxScale": 0,
   "type": "Group Layer",
   "supportsDynamicLegends": false
  },
  {
   "id": 52,
   "name": "Hydrology",
   "parentLayerId": 44,
   "defaultVisibility": true,
   "subLayerIds": [
    53,
    54
   ],
   "minScale": 0,
   "maxScale": 0,
   "type": "Group Layer",
   "supportsDynamicLegends": false
  },
  {
   "id": 55,
   "name": "Landmarks",
   "parentLayerId": 44,
   "defaultVisibility": true,
   "subLayerIds": [
    56,
    57
   ],
   "minScale": 0,
   "maxScale": 0,
   "type": "Group Layer",
   "supportsDynamicLegends": false
  },
  {
   "id": 59,
   "name": "Hillshade",
   "parentLayerId": 44,
   "defaultVisibility": true,
   "subLayerIds": null,
   "minScale": 0,
   "maxScale": 0,
   "type": "Raster Layer",
   "supportsDynamicLegends": true
  },
  {
   "id": 60,
   "name": "50-25k",
   "parentLayerId": 0,
   "defaultVisibility": true,
   "subLayerIds": [
    61,
    64,
    68,
    71,
    74,
    75
   ],
   "minScale": 50000,
   "maxScale": 25001,
   "type": "Group Layer",
   "supportsDynamicLegends": false
  },
  {
   "id": 61,
   "name": "Boundaries",
   "parentLayerId": 60,
   "defaultVisibility": true,
   "subLayerIds": [
    62,
    63
   ],
   "minScale": 0,
   "maxScale": 0,
   "type": "Group Layer",
   "supportsDynamicLegends": false
  },
  {
   "id": 64,
   "name": "Transportation",
   "parentLayerId": 60,
   "defaultVisibility": true,
   "subLayerIds": [
    65,
    66,
    67
   ],
   "minScale": 0,
   "maxScale": 0,
   "type": "Group Layer",
   "supportsDynamicLegends": false
  },
  {
   "id": 68,
   "name": "Hydrology",
   "parentLayerId": 60,
   "defaultVisibility": true,
   "subLayerIds": [
    69,
    70
   ],
   "minScale": 0,
   "maxScale": 0,
   "type": "Group Layer",
   "supportsDynamicLegends": false
  },
  {
   "id": 71,
   "name": "Landmarks",
   "parentLayerId": 60,
   "defaultVisibility": true,
   "subLayerIds": [
    72,
    73
   ],
   "minScale": 0,
   "maxScale": 0,
   "type": "Group Layer",
   "supportsDynamicLegends": false
  },
  {
   "id": 75,
   "name": "Hillshade",
   "parentLayerId": 60,
   "defaultVisibility": true,
   "subLayerIds": null,
   "minScale": 0,
   "maxScale": 0,
   "type": "Raster Layer",
   "supportsDynamicLegends": true
  },
  {
   "id": 76,
   "name": "25-15k",
   "parentLayerId": 0,
   "defaultVisibility": true,
   "subLayerIds": [
    77,
    81,
    82,
    87,
    90,
    93,
    94
   ],
   "minScale": 25000,
   "maxScale": 15001,
   "type": "Group Layer",
   "supportsDynamicLegends": false
  },
  {
   "id": 77,
   "name": "Boundaries",
   "parentLayerId": 76,
   "defaultVisibility": true,
   "subLayerIds": [
    78,
    79,
    80
   ],
   "minScale": 0,
   "maxScale": 0,
   "type": "Group Layer",
   "supportsDynamicLegends": false
  },
  {
   "id": 82,
   "name": "Transportation",
   "parentLayerId": 76,
   "defaultVisibility": true,
   "subLayerIds": [
    83,
    84,
    85,
    86
   ],
   "minScale": 0,
   "maxScale": 0,
   "type": "Group Layer",
   "supportsDynamicLegends": false
  },
  {
   "id": 87,
   "name": "Hydrology",
   "parentLayerId": 76,
   "defaultVisibility": true,
   "subLayerIds": [
    88,
    89
   ],
   "minScale": 0,
   "maxScale": 0,
   "type": "Group Layer",
   "supportsDynamicLegends": false
  },
  {
   "id": 90,
   "name": "Landmarks",
   "parentLayerId": 76,
   "defaultVisibility": true,
   "subLayerIds": [
    91,
    92
   ],
   "minScale": 0,
   "maxScale": 0,
   "type": "Group Layer",
   "supportsDynamicLegends": false
  },
  {
   "id": 94,
   "name": "Hillshade",
   "parentLayerId": 76,
   "defaultVisibility": true,
   "subLayerIds": null,
   "minScale": 0,
   "maxScale": 0,
   "type": "Raster Layer",
   "supportsDynamicLegends": true
  },
  {
   "id": 95,
   "name": "15-5k",
   "parentLayerId": 0,
   "defaultVisibility": true,
   "subLayerIds": [
    96,
    207,
    208,
    98,
    99,
    100,
    104,
    107,
    111,
    112
   ],
   "minScale": 15000,
   "maxScale": 5001,
   "type": "Group Layer",
   "supportsDynamicLegends": false
  },
  {
   "id": 100,
   "name": "Transportation",
   "parentLayerId": 95,
   "defaultVisibility": true,
   "subLayerIds": [
    101,
    102,
    103
   ],
   "minScale": 0,
   "maxScale": 0,
   "type": "Group Layer",
   "supportsDynamicLegends": false
  },
  {
   "id": 104,
   "name": "Hydrology",
   "parentLayerId": 95,
   "defaultVisibility": true,
   "subLayerIds": [
    105,
    106
   ],
   "minScale": 0,
   "maxScale": 0,
   "type": "Group Layer",
   "supportsDynamicLegends": false
  },
  {
   "id": 107,
   "name": "Landmarks",
   "parentLayerId": 95,
   "defaultVisibility": true,
   "subLayerIds": [
    108,
    109,
    110
   ],
   "minScale": 0,
   "maxScale": 0,
   "type": "Group Layer",
   "supportsDynamicLegends": false
  },
  {
   "id": 112,
   "name": "Hillshade",
   "parentLayerId": 95,
   "defaultVisibility": true,
   "subLayerIds": null,
   "minScale": 0,
   "maxScale": 0,
   "type": "Raster Layer",
   "supportsDynamicLegends": true
  },
  {
   "id": 113,
   "name": "5-2.5k",
   "parentLayerId": 0,
   "defaultVisibility": true,
   "subLayerIds": [
    114,
    115,
    206,
    116,
    117,
    118,
    119,
    124,
    127,
    131,
    132,
    133
   ],
   "minScale": 5000,
   "maxScale": 2501,
   "type": "Group Layer",
   "supportsDynamicLegends": false
  },
  {
   "id": 119,
   "name": "Transportation",
   "parentLayerId": 113,
   "defaultVisibility": true,
   "subLayerIds": [
    120,
    121,
    122,
    123
   ],
   "minScale": 0,
   "maxScale": 0,
   "type": "Group Layer",
   "supportsDynamicLegends": false
  },
  {
   "id": 124,
   "name": "Hydrology",
   "parentLayerId": 113,
   "defaultVisibility": true,
   "subLayerIds": [
    125,
    126
   ],
   "minScale": 0,
   "maxScale": 0,
   "type": "Group Layer",
   "supportsDynamicLegends": false
  },
  {
   "id": 127,
   "name": "Landmarks",
   "parentLayerId": 113,
   "defaultVisibility": true,
   "subLayerIds": [
    128,
    129,
    130
   ],
   "minScale": 0,
   "maxScale": 0,
   "type": "Group Layer",
   "supportsDynamicLegends": false
  },
  {
   "id": 134,
   "name": "2.5- 1.75k",
   "parentLayerId": 0,
   "defaultVisibility": true,
   "subLayerIds": [
    135,
    136,
    138,
    139,
    140,
    204,
    141,
    147,
    150,
    154,
    155,
    156
   ],
   "minScale": 2500,
   "maxScale": 1751,
   "type": "Group Layer",
   "supportsDynamicLegends": false
  },
  {
   "id": 136,
   "name": "Boundaries",
   "parentLayerId": 134,
   "defaultVisibility": true,
   "subLayerIds": [
    137
   ],
   "minScale": 0,
   "maxScale": 0,
   "type": "Group Layer",
   "supportsDynamicLegends": false
  },
  {
   "id": 141,
   "name": "Transportation",
   "parentLayerId": 134,
   "defaultVisibility": true,
   "subLayerIds": [
    142,
    143,
    144,
    145,
    146
   ],
   "minScale": 0,
   "maxScale": 0,
   "type": "Group Layer",
   "supportsDynamicLegends": false
  },
  {
   "id": 147,
   "name": "Hydrology",
   "parentLayerId": 134,
   "defaultVisibility": true,
   "subLayerIds": [
    148,
    149
   ],
   "minScale": 0,
   "maxScale": 0,
   "type": "Group Layer",
   "supportsDynamicLegends": false
  },
  {
   "id": 150,
   "name": "Landmarks",
   "parentLayerId": 134,
   "defaultVisibility": true,
   "subLayerIds": [
    151,
    152,
    153
   ],
   "minScale": 0,
   "maxScale": 0,
   "type": "Group Layer",
   "supportsDynamicLegends": false
  },
  {
   "id": 157,
   "name": "1.75-1",
   "parentLayerId": 0,
   "defaultVisibility": true,
   "subLayerIds": [
    158,
    159,
    161,
    162,
    163,
    205,
    164,
    170,
    173,
    177,
    178,
    179
   ],
   "minScale": 1750,
   "maxScale": 1001,
   "type": "Group Layer",
   "supportsDynamicLegends": false
  },
  {
   "id": 159,
   "name": "Boundaries",
   "parentLayerId": 157,
   "defaultVisibility": true,
   "subLayerIds": [
    160
   ],
   "minScale": 0,
   "maxScale": 0,
   "type": "Group Layer",
   "supportsDynamicLegends": false
  },
  {
   "id": 164,
   "name": "Transportation",
   "parentLayerId": 157,
   "defaultVisibility": true,
   "subLayerIds": [
    165,
    166,
    167,
    168,
    169
   ],
   "minScale": 0,
   "maxScale": 0,
   "type": "Group Layer",
   "supportsDynamicLegends": false
  },
  {
   "id": 170,
   "name": "Hydrology",
   "parentLayerId": 157,
   "defaultVisibility": true,
   "subLayerIds": [
    171,
    172
   ],
   "minScale": 0,
   "maxScale": 0,
   "type": "Group Layer",
   "supportsDynamicLegends": false
  },
  {
   "id": 173,
   "name": "Landmarks",
   "parentLayerId": 157,
   "defaultVisibility": true,
   "subLayerIds": [
    174,
    175,
    176
   ],
   "minScale": 0,
   "maxScale": 0,
   "type": "Group Layer",
   "supportsDynamicLegends": false
  },
  {
   "id": 180,
   "name": "1- k",
   "parentLayerId": 0,
   "defaultVisibility": true,
   "subLayerIds": [
    181,
    182,
    184,
    185,
    186,
    203,
    187,
    193,
    196,
    200,
    201,
    202
   ],
   "minScale": 1000,
   "maxScale": 0,
   "type": "Group Layer",
   "supportsDynamicLegends": false
  },
  {
   "id": 182,
   "name": "Boundaries",
   "parentLayerId": 180,
   "defaultVisibility": true,
   "subLayerIds": [
    183
   ],
   "minScale": 0,
   "maxScale": 0,
   "type": "Group Layer",
   "supportsDynamicLegends": false
  },
  {
   "id": 187,
   "name": "Transportation",
   "parentLayerId": 180,
   "defaultVisibility": true,
   "subLayerIds": [
    188,
    189,
    190,
    191,
    192
   ],
   "minScale": 0,
   "maxScale": 0,
   "type": "Group Layer",
   "supportsDynamicLegends": false
  },
  {
   "id": 193,
   "name": "Hydrology",
   "parentLayerId": 180,
   "defaultVisibility": true,
   "subLayerIds": [
    194,
    195
   ],
   "minScale": 0,
   "maxScale": 0,
   "type": "Group Layer",
   "supportsDynamicLegends": false
  },
  {
   "id": 196,
   "name": "Landmarks",
   "parentLayerId": 180,
   "defaultVisibility": true,
   "subLayerIds": [
    197,
    198,
    199
   ],
   "minScale": 0,
   "maxScale": 0,
   "type": "Group Layer",
   "supportsDynamicLegends": false
  }
 ],
 "tables": [],
 "spatialReference": {
  "wkid": 102100,
  "latestWkid": 3857,
  "xyTolerance": 0.001,
  "zTolerance": 0.001,
  "mTolerance": 0.001,
  "falseX": -20037700,
  "falseY": -30241100,
  "xyUnits": 10000,
  "falseZ": -100000,
  "zUnits": 10000,
  "falseM": -100000,
  "mUnits": 10000
 },
 "singleFusedMapCache": true,
 "tileInfo": {
  "rows": 256,
  "cols": 256,
  "dpi": 96,
  "format": "Mixed",
  "compressionQuality": 75,
  "origin": {
   "x": -2.0037508342787E7,
   "y": 2.0037508342787E7
  },
  "spatialReference": {
   "wkid": 102100,
   "latestWkid": 3857,
   "xyTolerance": 0.001,
   "zTolerance": 0.001,
   "mTolerance": 0.001,
   "falseX": -20037700,
   "falseY": -30241100,
   "xyUnits": 1.4892314192838538E8,
   "falseZ": -100000,
   "zUnits": 10000,
   "falseM": -100000,
   "mUnits": 10000
  },
  "lods": [
   {
    "level": 0,
    "resolution": 156543.033928,
    "scale": 5.91657527591555E8
   },
   {
    "level": 1,
    "resolution": 78271.5169639999,
    "scale": 2.95828763795777E8
   },
   {
    "level": 2,
    "resolution": 39135.7584820001,
    "scale": 1.47914381897889E8
   },
   {
    "level": 3,
    "resolution": 19567.8792409999,
    "scale": 7.3957190948944E7
   },
   {
    "level": 4,
    "resolution": 9783.93962049996,
    "scale": 3.6978595474472E7
   },
   {
    "level": 5,
    "resolution": 4891.96981024998,
    "scale": 1.8489297737236E7
   },
   {
    "level": 6,
    "resolution": 2445.98490512499,
    "scale": 9244648.868618
   },
   {
    "level": 7,
    "resolution": 1222.99245256249,
    "scale": 4622324.434309
   },
   {
    "level": 8,
    "resolution": 611.49622628138,
    "scale": 2311162.217155
   },
   {
    "level": 9,
    "resolution": 305.748113140558,
    "scale": 1155581.108577
   },
   {
    "level": 10,
    "resolution": 152.874056570411,
    "scale": 577790.554289
   },
   {
    "level": 11,
    "resolution": 76.4370282850732,
    "scale": 288895.277144
   },
   {
    "level": 12,
    "resolution": 38.2185141425366,
    "scale": 144447.638572
   },
   {
    "level": 13,
    "resolution": 19.1092570712683,
    "scale": 72223.819286
   },
   {
    "level": 14,
    "resolution": 9.55462853563415,
    "scale": 36111.909643
   },
   {
    "level": 15,
    "resolution": 4.77731426794937,
    "scale": 18055.954822
   },
   {
    "level": 16,
    "resolution": 2.38865713397468,
    "scale": 9027.977411
   },
   {
    "level": 17,
    "resolution": 1.19432856685505,
    "scale": 4513.988705
   },
   {
    "level": 18,
    "resolution": 0.597164283559817,
    "scale": 2256.994353
   },
   {
    "level": 19,
    "resolution": 0.298582141647617,
    "scale": 1128.497176
   },
   {
    "level": 20,
    "resolution": 0.14929107082380833,
    "scale": 564.248588
   },
   {
    "level": 21,
    "resolution": 0.07464553541190416,
    "scale": 282.124294
   },
   {
    "level": 22,
    "resolution": 0.03732276770595208,
    "scale": 141.062147
   },
   {
    "level": 23,
    "resolution": 0.01866138385297604,
    "scale": 70.5310735
   }
  ]
 },
 "storageInfo": {
  "storageFormat": "esriMapCacheStorageModeCompactV2",
  "packetSize": 128
 },
 "initialExtent": {
  "xmin": -8956396.159799783,
  "ymin": 4440160.190298246,
  "xmax": -8861252.231503805,
  "ymax": 4503155.0286677275,
  "spatialReference": {
   "wkid": 102100,
   "latestWkid": 3857,
   "xyTolerance": 0.001,
   "zTolerance": 0.001,
   "mTolerance": 0.001,
   "falseX": -20037700,
   "falseY": -30241100,
   "xyUnits": 10000,
   "falseZ": -100000,
   "zUnits": 10000,
   "falseM": -100000,
   "mUnits": 10000
  }
 },
 "fullExtent": {
  "xmin": -8978851.67706859,
  "ymin": 4398187.1027818145,
  "xmax": -8814134.0769576,
  "ymax": 4552093.931584924,
  "spatialReference": {
   "wkid": 102100,
   "latestWkid": 3857,
   "xyTolerance": 0.001,
   "zTolerance": 0.001,
   "mTolerance": 0.001,
   "falseX": -20037700,
   "falseY": -30241100,
   "xyUnits": 10000,
   "falseZ": -100000,
   "zUnits": 10000,
   "falseM": -100000,
   "mUnits": 10000
  }
 },
 "datesInUnknownTimezone": false,
 "minScale": 2311162.217155,
 "maxScale": 70.5310735,
 "minLOD": 8,
 "maxLOD": 23,
 "units": "esriMeters",
 "supportedImageFormatTypes": "PNG32,PNG24,PNG,JPG,DIB,TIFF,EMF,PS,PDF,GIF,SVG,SVGZ,BMP",
 "documentInfo": {
  "Title": "StreetsBasemap_2025",
  "Author": "",
  "Comments": "Streets Basemap for Roanoke Valley",
  "Subject": "Streets Basemap",
  "Category": "",
  "Version": "3.5.0",
  "AntialiasingMode": "Fast",
  "TextAntialiasingMode": "Force",
  "Keywords": "Streets,Basemap"
 },
 "supportsQueryDomains": true,
 "capabilities": "Map,Query,Data,TileMap",
 "supportedQueryFormats": "JSON, geoJSON, PBF",
 "exportTilesAllowed": false,
 "referenceScale": 1000.0,
 "datumTransformations": [
  {
   "geoTransforms": [
    {
     "wkid": 108190,
     "latestWkid": 108190,
     "transformForward": true,
     "name": "WGS_1984_(ITRF00)_To_NAD_1983"
    }
   ]
  },
  {
   "geoTransforms": [
    {
     "wkid": 108190,
     "latestWkid": 108190,
     "transformForward": false,
     "name": "WGS_1984_(ITRF00)_To_NAD_1983"
    }
   ]
  }
 ],
 "supportsDatumTransformation": true,
 "floorAwareMapProperties": {
  "defaultFloorFilterSettings": {
   "isEnabled": false
  }
 },
 "archivingInfo": {
  "supportsHistoricMoment": false
 },
 "supportsClipping": true,
 "supportsSpatialFilter": true,
 "supportsTimeRelation": true,
 "supportsQueryDataElements": true,
 "mapUnits": {
  "uwkid": 9001
 },
 "maxSelectionCount": 2000,
 "maxRecordCount": 2000,
 "maxImageHeight": 4096,
 "maxImageWidth": 4096,
 "supportedExtensions": "",
 "resampling": false,
 "serviceItemId": "6ff737ab188d408da9f1357ff73cf9ef"
}
