View In:
ArcGIS JavaScript
ArcGIS Online Map Viewer
ArcGIS Earth
ArcGIS Pro
Service Description: <div style='text-align:Left;font-size:12pt'><p><span>This is the updated New World Systems Aerial Overlay Basemap for use within the E911 system. It contains all of the normal aerial overlay information as the normal County version but includes the hydrants for all 3 localities. Due to limitations within NW, the overlay and underlying aerial imagery (2025) are combined into one basemap. </span></p></div>
Map Name: NWS Aerial Overlay 2025
Legend
All Layers and Tables
Dynamic Legend
Dynamic All Layers
Layers:
Description: This is the updated New World Systems Aerial Overlay Basemap for use within the E911 system. It contains all of the normal aerial overlay information as the normal County version but includes the hydrants for all 3 localities. Due to limitations within NW, the overlay and underlying aerial imagery (2025) are combined into one basemap.
Service Item Id: fa9908135e6c46858336cc347f382a51
Copyright Text:
Spatial Reference:
102100
(3857)
LatestVCSWkid(0)
Single Fused Map Cache: true
Tile Info:
- Height: 256.0
- Width: 256.0
- DPI: 96.0
-
Levels of Detail: 24
-
Level ID: 1
[ Start Tile, End Tile ]
- Resolution: 78271.5169639999
- Scale: 2.95828763795777E8
-
Level ID: 2
[ Start Tile, End Tile ]
- Resolution: 39135.7584820001
- Scale: 1.47914381897889E8
-
Level ID: 3
[ Start Tile, End Tile ]
- Resolution: 19567.8792409999
- Scale: 7.3957190948944E7
-
Level ID: 4
[ Start Tile, End Tile ]
- Resolution: 9783.93962049996
- Scale: 3.6978595474472E7
-
Level ID: 5
[ Start Tile, End Tile ]
- Resolution: 4891.96981024998
- Scale: 1.8489297737236E7
- Format: Mixed
- Compression Quality: 75.0
- Origin: X: -2.0037508342787E7
Y: 2.0037508342787E7
- Spatial Reference: 102100
(3857)
LatestVCSWkid(0)
Storage Info:
- Storage Format: esriMapCacheStorageModeCompactV2
- Packet Size: 128
Initial Extent:
XMin: -8935109.789663268
YMin: 4459924.695707074
XMax: -8884630.391918657
YMax: 4493677.389192437
Spatial Reference: 102100
(3857)
LatestVCSWkid(0)
Full Extent:
XMin: -8982710.656855362
YMin: 4398188.102586228
XMax: -8814134.391428467
YMax: 4552094.985748702
Spatial Reference: 102100
(3857)
LatestVCSWkid(0)
Units: esriMeters
Supported Image Format Types: PNG32,PNG24,PNG,JPG,DIB,TIFF,EMF,PS,PDF,GIF,SVG,SVGZ,BMP
Document Info:
Title: NWS Aerial Overlay 2023
Author:
Comments: This is the updated New World Systems Aerial Overlay Basemap for use within the E911 system. It contains all of the normal aerial overlay information as the normal County version but includes the hydrants for all 3 localities. Due to limitations within NW, the overlay and underlying aerial imagery (2025) are combined into one basemap.
Subject: This is the updated New World Systems Aerial Overlay Basemap for use within the E911 system. It contains all of the normal aerial overlay information as the normal County version but includes the hydrants for all 3 localities. Due to limitations within NW, the overlay and underlying aerial imagery (2025) are combined into one basemap.
Category:
Keywords: Basemap,Public Safety
AntialiasingMode: Fast
TextAntialiasingMode: Force
Supports Dynamic Layers: true
MaxRecordCount: 2000
MaxSelectionCount: 2000
MaxImageHeight: 4096
MaxImageWidth: 4096
Supported Query Formats: JSON, geoJSON, PBF
Supports Query Data Elements: true
Min Scale: 1155581.108577
Max Scale: 141.062147
Min LOD: 9
Max LOD: 20
Supports Datum Transformation: true
Child Resources:
Info
Dynamic Layer
Supported Operations:
Export Map
QueryLegends
Return Updates