View In:
ArcGIS JavaScript
ArcGIS Online Map Viewer
ArcGIS Earth
ArcGIS Pro
Service Description: Streets Basemap for Roanoke Valley
Map Name: Streets_Basemap_Update_2026
Legend
All Layers and Tables
Dynamic Legend
Dynamic All Layers
Layers:
Description: Streets Basemap for Roanoke Valley
Service Item Id: 3087b885a4d64435a820af7bea4d11da
Copyright Text: Roanoke County
Spatial Reference:
102100
(3857)
LatestVCSWkid(0)
Single Fused Map Cache: true
Tile Info:
- Height: 256.0
- Width: 256.0
- DPI: 96.0
-
Levels of Detail: 24
-
Level ID: 1
[ Start Tile, End Tile ]
- Resolution: 78271.5169639999
- Scale: 2.95828763795777E8
-
Level ID: 2
[ Start Tile, End Tile ]
- Resolution: 39135.7584820001
- Scale: 1.47914381897889E8
-
Level ID: 3
[ Start Tile, End Tile ]
- Resolution: 19567.8792409999
- Scale: 7.3957190948944E7
-
Level ID: 4
[ Start Tile, End Tile ]
- Resolution: 9783.93962049996
- Scale: 3.6978595474472E7
-
Level ID: 5
[ Start Tile, End Tile ]
- Resolution: 4891.96981024998
- Scale: 1.8489297737236E7
- Format: Mixed
- Compression Quality: 75.0
- Origin: X: -2.0037508342787E7
Y: 2.0037508342787E7
- Spatial Reference: 102100
(3857)
LatestVCSWkid(0)
Storage Info:
- Storage Format: esriMapCacheStorageModeCompactV2
- Packet Size: 128
Initial Extent:
XMin: -9053257.629498946
YMin: 4386690.759124354
XMax: -8790909.574217523
YMax: 4566148.510305734
Spatial Reference: 102100
(0)
LatestVCSWkid(0)
Full Extent:
XMin: -8978851.67706859
YMin: 4398187.102781815
XMax: -8814134.0769576
YMax: 4552093.931584923
Spatial Reference: 102100
(0)
LatestVCSWkid(0)
Units: esriMeters
Supported Image Format Types: PNG32,PNG24,PNG,JPG,DIB,TIFF,EMF,PS,PDF,GIF,SVG,SVGZ,BMP
Document Info:
Title: StreetsBasemap_2025
Author:
Comments: Streets Basemap for Roanoke Valley
Subject: Streets Basemap
Category:
Keywords: Streets,Basemap
AntialiasingMode: Fast
TextAntialiasingMode: Force
Supports Dynamic Layers: true
MaxRecordCount: 2000
MaxSelectionCount: 2000
MaxImageHeight: 4096
MaxImageWidth: 4096
Supported Query Formats: JSON, geoJSON, PBF
Supports Query Data Elements: true
Min Scale: 1155581.108577
Max Scale: 141.062147
Min LOD: 9
Max LOD: 21
Supports Datum Transformation: true
Child Resources:
Info
Dynamic Layer
Supported Operations:
Export Map
QueryLegends
Return Updates